BEGIN:VCALENDAR
VERSION:2.0
METHOD:PUBLISH
BEGIN:VEVENT
SUMMARY:Ägypten: Das Tor zum globalen Handel
CLASS:PUBLIC
DESCRIPTION:Link: https://www.africa-business-guide.de/de/veranstaltungen/aegypten-das-tor-zum-globalen-handel-1992330
\nDie Konferenz umfasst eine besondere Fireside-Chat-Session, die sich mit der aktuellen Entwicklung des Logistiksektors innerhalb der Europäischen Union befasst, einschließlich zentraler Projekte und Initiativen, die den Sektor in den EU-Mitgliedstaaten prägen. An der Diskussion nehmen Vertreter der Europäischen Kommission sowie der International Finance Corporation (IFC) teil. Thematisiert werden internationale Trends im Logistikbereich, die Bedeutung der Zusammenarbeit sowie die Rolle der IFC bei der Unterstützung des Logistiksektors in Ägypten, einschließlich zukünftiger Initiativen und nationaler Projekte.
X-ALT-DESC;FMTTYPE=text/html:<HTML><HEAD><TITLE></TITLE><BODY><FONT SIZE=2>Link: https://www.africa-business-guide.de/de/veranstaltungen/aegypten-das-tor-zum-globalen-handel-1992330<p><span>Die Konferenz umfasst eine besondere Fireside-Chat-Session, die sich mit der aktuellen Entwicklung des Logistiksektors innerhalb der Europäischen Union befasst, einschließlich zentraler Projekte und Initiativen, die den Sektor in den EU-Mitgliedstaaten prägen. An der Diskussion nehmen Vertreter der Europäischen Kommission sowie der International Finance Corporation (IFC) teil. Thematisiert werden internationale Trends im Logistikbereich, die Bedeutung der Zusammenarbeit sowie die Rolle der IFC bei der Unterstützung des Logistiksektors in Ägypten, einschließlich zukünftiger Initiativen und nationaler Projekte.</span></p></FONT></BODY></HTML>
CREATED:20260421T104513Z
DTSTAMP:20211029T152739Z
DTSTART;VALUE=DATE:20260505
END:VEVENT
END:VCALENDAR
