BEGIN:VCALENDAR
VERSION:2.0
METHOD:PUBLISH
BEGIN:VEVENT
SUMMARY:Neue Marktchancen in Westafrika
CLASS:PUBLIC
DESCRIPTION:Link: https://www.africa-business-guide.de/de/veranstaltungen/neue-marktchancen-in-westafrika-1992260
\nNur ein Prozent der deutschen Auslandsinvestitionen geht zurzeit nach Afrika. Dabei liegen dort künftige Wachstumsmärkte: In den nächsten zehn Jahren wird in Afrika mehr gebaut werden als in den letzten hundert Jahren in Europa. Es gibt viele vielversprechende Sektoren in einer sich verändernden Wirtschaftszone, zum Beispiel IT, Grüne Energie, Lebensmittelverarbeitung, Medizintechnik, Bauausrüstung und Konsumgüter. Neben Nigeria gibt es auch andere Länder mit wirtschaftlichem Potenzial, wie zum Beispiel die Elfenbeinküste, Ghana und Senegal.\nDas Webinar gibt eine erste Orientierung zur Erschließung dieser unterschiedlichen Märkte auch für klein- und mittelständische Unternehmen und benennt die Schlüsselfaktoren für einen erfolgreichen Markteintritt.
X-ALT-DESC;FMTTYPE=text/html:<HTML><HEAD><TITLE></TITLE><BODY><FONT SIZE=2>Link: https://www.africa-business-guide.de/de/veranstaltungen/neue-marktchancen-in-westafrika-1992260<p>Nur ein Prozent der deutschen Auslandsinvestitionen geht zurzeit nach Afrika. Dabei liegen dort künftige Wachstumsmärkte: In den nächsten zehn Jahren wird in Afrika mehr gebaut werden als in den letzten hundert Jahren in Europa. Es gibt viele vielversprechende Sektoren in einer sich verändernden Wirtschaftszone, zum Beispiel IT, Grüne Energie, Lebensmittelverarbeitung, Medizintechnik, Bauausrüstung und Konsumgüter. Neben Nigeria gibt es auch andere Länder mit wirtschaftlichem Potenzial, wie zum Beispiel die Elfenbeinküste, Ghana und Senegal.</p><p>Das Webinar gibt eine erste Orientierung zur Erschließung dieser unterschiedlichen Märkte auch für klein- und mittelständische Unternehmen und benennt die Schlüsselfaktoren für einen erfolgreichen Markteintritt.</p></FONT></BODY></HTML>
LOCATION:online
CREATED:20260421T094939Z
DTSTAMP:20211029T154112Z
DTSTART;VALUE=DATE:20260430
END:VEVENT
END:VCALENDAR
