BEGIN:VCALENDAR
VERSION:2.0
METHOD:PUBLISH
BEGIN:VEVENT
SUMMARY:Pitch- & Networking-Event
CLASS:PUBLIC
DESCRIPTION:Link: https://www.africa-business-guide.de/de/veranstaltungen/pitch-networking-event-1993084
\nPartnering in Business with Germany lädt zu einem Pitch‑ & Networking‑Event auf der IFAT Munich 2026 ein. Die Veranstaltung richtet sich an deutsche Unternehmen aus den Bereichen Wasser- und Abfallwirtschaft, erneuerbare Energien und Kreislaufwirtschaft.\nTeilnehmende erhalten direkten Zugang zu Entscheidungsträgern, potenziellen Kunden, Lieferanten und Kooperationspartnern aus Ägypten, Chile und Mexiko. Zudem bietet die Veranstaltung die Möglichkeit, Unternehmen sichtbar zu positionieren und konkrete Geschäftskontakte für das Auslandsgeschäft zu knüpfen. \nDas Pitch- & Networking-Event findet am Stand des Bundesverband der Deutschen Entsorgungs-, Wasser- und Kreislaufwirtschaft e. V. statt. \nPartnering in Business with Germany ist ein Außenwirtschaftsförderinstrument des Bundesministeriums für Wirtschaft und Energie.\nWeitere Informationen zur Unternehmensdelegation aus Ägypten finden Sie hier. \n \n 
X-ALT-DESC;FMTTYPE=text/html:<HTML><HEAD><TITLE></TITLE><BODY><FONT SIZE=2>Link: https://www.africa-business-guide.de/de/veranstaltungen/pitch-networking-event-1993084<p>Partnering in Business with Germany lädt zu einem Pitch‑ &amp; Networking‑Event auf der IFAT Munich 2026 ein. Die Veranstaltung richtet sich an deutsche Unternehmen aus den Bereichen Wasser- und Abfallwirtschaft, erneuerbare Energien und Kreislaufwirtschaft.</p><p>Teilnehmende erhalten direkten Zugang zu Entscheidungsträgern, potenziellen Kunden, Lieferanten und Kooperationspartnern aus Ägypten, Chile und Mexiko. Zudem bietet die Veranstaltung die Möglichkeit, Unternehmen sichtbar zu positionieren und konkrete Geschäftskontakte für das Auslandsgeschäft zu knüpfen. </p><p>Das Pitch- &amp; Networking-Event findet am <span>Stand des Bundesverband der Deutschen Entsorgungs-, Wasser- und Kreislaufwirtschaft e. V. statt. </span></p><p><span>Partnering in Business with Germany ist ein Außenwirtschaftsförderinstrument des Bundesministeriums für Wirtschaft und Energie.</span></p><p><span>Weitere Informationen zur Unternehmensdelegation aus Ägypten finden Sie </span><a class="link-external" target="_blank" title="Neues Fenster zu &quot;https://partnering-in-business.de/wp-content/uploads/2026/04/PG-Aegypten-2026_Delegationsbroschuere.pdf&quot;." href="https://partnering-in-business.de/wp-content/uploads/2026/04/PG-Aegypten-2026_Delegationsbroschuere.pdf"><span>hier</span></a><span>. </span></p><p> </p><p> </p></FONT></BODY></HTML>
LOCATION:München
CREATED:20260423T151739Z
DTSTAMP:20260423T000000Z
DTSTART;VALUE=DATE:20260505
END:VEVENT
END:VCALENDAR
