BEGIN:VCALENDAR
VERSION:2.0
METHOD:PUBLISH
BEGIN:VEVENT
SUMMARY:Round Table Gespräch Algerien
CLASS:PUBLIC
DESCRIPTION:Link: https://www.africa-business-guide.de/de/veranstaltungen/round-table-gespraech-algerien-1992394
\nAlgerien entwickelt sich zunehmend zu einem vielversprechenden Markt für Firmen aus Baden-Württemberg. Die algerische Wirtschaft wird 2026 voraussichtlich um 3 bis 3,5 % wachsen, getragen durch umfangreiche öffentliche Investitionen, eine robuste Inlandsnachfrage sowie große Strukturprojekte wie die Eisenmine Gara Djebilet und neue Bahn- und Rohstoffinfrastruktur. Diese Entwicklungen stärken die industrielle Basis des Landes und eröffnen deutschen Unternehmen neue Geschäftschancen. \n\nFür baden-württembergische Firmen besonders interessant sind die Bereiche Maschinenbau, Automotive, Chemie, Lebensmittelverarbeitung, erneuerbare Energien und Agrartechnologie – allesamt Branchen, die in der bilateralen Handelsstruktur bereits heute eine zentrale Rolle spielen (deutsche Exporte: stabil bei 1,6 Mrd. €). 
X-ALT-DESC;FMTTYPE=text/html:<HTML><HEAD><TITLE></TITLE><BODY><FONT SIZE=2>Link: https://www.africa-business-guide.de/de/veranstaltungen/round-table-gespraech-algerien-1992394<p><span>Algerien entwickelt sich zunehmend zu einem vielversprechenden Markt für Firmen aus Baden-Württemberg. Die algerische Wirtschaft wird 2026 voraussichtlich um 3 bis 3,5 % wachsen, getragen durch umfangreiche öffentliche Investitionen, eine robuste Inlandsnachfrage sowie große Strukturprojekte wie die Eisenmine Gara Djebilet und neue Bahn- und Rohstoffinfrastruktur. Diese Entwicklungen stärken die industrielle Basis des Landes und eröffnen deutschen Unternehmen neue Geschäftschancen. </span><br/><br/><span>Für baden-württembergische Firmen besonders interessant sind die Bereiche Maschinenbau, Automotive, Chemie, Lebensmittelverarbeitung, erneuerbare Energien und Agrartechnologie – allesamt Branchen, die in der bilateralen Handelsstruktur bereits heute eine zentrale Rolle spielen (deutsche Exporte: stabil bei 1,6 Mrd. €). </span></p></FONT></BODY></HTML>
LOCATION:online
CREATED:20260421T142107Z
DTSTAMP:20211029T154043Z
DTSTART;VALUE=DATE:20260504
END:VEVENT
END:VCALENDAR
